BEGIN:VCALENDAR
VERSION:2.0
PRODID:-//Sabre//Sabre VObject 4.5.8//EN
CALSCALE:GREGORIAN
BEGIN:VEVENT
UID:sabre-vobject-64629d8e-618c-4ad1-a33d-eb36ca968381
DTSTAMP:20260421T130549Z
SUMMARY:Parent Night Out
DESCRIPTION:Col Hess Child Development Center\, Bldg. 5410 &nbsp\;\n
X-ALT-DESC:FMTTYPE=text/html:<!DOCTYPE HTML PUBLIC "-//W3C//DTD HTML 3.2//E
 N"><HTML><h5>Col Hess Child Development Center\, Bldg. 5410 &nbsp\;</h5>\n
 </HTML>
CREATED;TZID=Asia/Seoul:20251020T133804
URL;VALUE=URI:https://humphreys.armymwr.com/calendar/event
DTSTART;TZID=Asia/Seoul:20260214T170000
DTEND;TZID=Asia/Seoul:20260214T210000
SEQUENCE:0
END:VEVENT
END:VCALENDAR
