BEGIN:VCALENDAR
VERSION:2.0
PRODID:-//Sabre//Sabre VObject 4.5.8//EN
CALSCALE:GREGORIAN
BEGIN:VEVENT
UID:sabre-vobject-48746d6f-77df-40cb-812e-718246f68133
DTSTAMP:20260420T122032Z
SUMMARY:K-16 Jisan Snowboard & Ski Trip
DESCRIPTION:K-16 Outdoor Recreation Center\n
X-ALT-DESC:FMTTYPE=text/html:<!DOCTYPE HTML PUBLIC "-//W3C//DTD HTML 3.2//E
 N"><HTML><h5>K-16 Outdoor Recreation Center</h5>\n</HTML>
CREATED;TZID=Asia/Seoul:20251024T102819
URL;VALUE=URI:https://humphreys.armymwr.com/calendar/event
DTSTART;TZID=Asia/Seoul:20251220T080000
DTEND;TZID=Asia/Seoul:20251220T170000
SEQUENCE:0
END:VEVENT
END:VCALENDAR
