BEGIN:VCALENDAR
VERSION:2.0
PRODID:-//Sabre//Sabre VObject 4.5.8//EN
CALSCALE:GREGORIAN
BEGIN:VEVENT
UID:sabre-vobject-91bfdf5a-a9c8-499c-9875-bf99b60d687d
DTSTAMP:20260420T085822Z
SUMMARY:DIY Holiday Snow Globe
DESCRIPTION:Downtown Recreation Center\n
X-ALT-DESC:FMTTYPE=text/html:<!DOCTYPE HTML PUBLIC "-//W3C//DTD HTML 3.2//E
 N"><HTML><h5>Downtown Recreation Center</h5>\n</HTML>
CREATED;TZID=Asia/Seoul:20251030T142815
URL;VALUE=URI:https://humphreys.armymwr.com/calendar/event
DTSTART;TZID=Asia/Seoul:20251213T150000
DTEND;TZID=Asia/Seoul:20251213T160000
SEQUENCE:0
END:VEVENT
END:VCALENDAR
