BEGIN:VCALENDAR
VERSION:2.0
PRODID:-//Sabre//Sabre VObject 4.5.8//EN
CALSCALE:GREGORIAN
BEGIN:VEVENT
UID:sabre-vobject-c9079ace-6737-49d4-8541-ee12c0bec871
DTSTAMP:20260420T152210Z
SUMMARY:Mario Kart Home Circuit
DESCRIPTION:Downtown Recreation Center\n
X-ALT-DESC:FMTTYPE=text/html:<!DOCTYPE HTML PUBLIC "-//W3C//DTD HTML 3.2//E
 N"><HTML><h5>Downtown Recreation Center</h5>\n</HTML>
CREATED;TZID=Asia/Seoul:20251030T105003
URL;VALUE=URI:https://humphreys.armymwr.com/calendar/event
DTSTART;TZID=Asia/Seoul:20251227T140000
DTEND;TZID=Asia/Seoul:20251227T160000
SEQUENCE:0
END:VEVENT
END:VCALENDAR
