BEGIN:VCALENDAR
VERSION:2.0
PRODID:-//Sabre//Sabre VObject 4.5.8//EN
CALSCALE:GREGORIAN
BEGIN:VEVENT
UID:sabre-vobject-14b86e3c-b08e-4f1b-ab85-d4befb13e319
DTSTAMP:20260422T000453Z
SUMMARY:Army vs. Navy
DESCRIPTION:Flightline Tap Room\n
X-ALT-DESC:FMTTYPE=text/html:<!DOCTYPE HTML PUBLIC "-//W3C//DTD HTML 3.2//E
 N"><HTML><h5>Flightline Tap Room</h5>\n</HTML>
CREATED;TZID=Asia/Seoul:20251021T104609
URL;VALUE=URI:https://humphreys.armymwr.com/calendar/event
DTSTART;TZID=Asia/Seoul:20251214T040000
DTEND;TZID=Asia/Seoul:20251214T080000
SEQUENCE:0
END:VEVENT
END:VCALENDAR
