BEGIN:VCALENDAR
VERSION:2.0
PRODID:-//Sabre//Sabre VObject 4.5.8//EN
CALSCALE:GREGORIAN
BEGIN:VEVENT
UID:sabre-vobject-6a5d7c66-3702-47bd-b740-8e38b4f80aff
DTSTAMP:20260423T061417Z
SUMMARY:USAG Humphreys Pickleball Winter Open
DESCRIPTION:Zoeckler Fitness Center\n
X-ALT-DESC:FMTTYPE=text/html:<!DOCTYPE HTML PUBLIC "-//W3C//DTD HTML 3.2//E
 N"><HTML><h5>Zoeckler Fitness Center</h5>\n</HTML>
CREATED;TZID=Asia/Seoul:20251210T082310
URL;VALUE=URI:https://humphreys.armymwr.com/calendar/event
DTSTART;TZID=Asia/Seoul:20260131T090000
DTEND;TZID=Asia/Seoul:20260131T170000
SEQUENCE:0
END:VEVENT
END:VCALENDAR
