BEGIN:VCALENDAR
VERSION:2.0
PRODID:-//Sabre//Sabre VObject 4.5.8//EN
CALSCALE:GREGORIAN
BEGIN:VEVENT
UID:sabre-vobject-3d9c8374-90a5-4722-bfc2-ca1a0b1c54a3
DTSTAMP:20260421T084227Z
SUMMARY:Hiking Club Kwangkyosan
DESCRIPTION:Hike Korea with Outdoor Recreation!\n
X-ALT-DESC:FMTTYPE=text/html:<!DOCTYPE HTML PUBLIC "-//W3C//DTD HTML 3.2//E
 N"><HTML><h5>Hike Korea with Outdoor Recreation!</h5>\n</HTML>
CREATED;TZID=Asia/Seoul:20251107T074113
URL;VALUE=URI:https://humphreys.armymwr.com/calendar/event
DTSTART;TZID=Asia/Seoul:20251116T090000
DTEND;TZID=Asia/Seoul:20251116T180000
SEQUENCE:0
END:VEVENT
END:VCALENDAR
