BEGIN:VCALENDAR
VERSION:2.0
PRODID:-//Sabre//Sabre VObject 4.5.8//EN
CALSCALE:GREGORIAN
BEGIN:VEVENT
UID:sabre-vobject-8ad6c0aa-771d-46b4-aa85-65201b468c92
DTSTAMP:20260420T211156Z
SUMMARY:Craft Day
DESCRIPTION:Outdoor Recreation Center\n
X-ALT-DESC:FMTTYPE=text/html:<!DOCTYPE HTML PUBLIC "-//W3C//DTD HTML 3.2//E
 N"><HTML><h5>Outdoor Recreation Center</h5>\n</HTML>
CREATED;TZID=Asia/Seoul:20251121T140901
URL;VALUE=URI:https://humphreys.armymwr.com/calendar/event
DTSTART;TZID=Asia/Seoul:20251218T130000
DTEND;TZID=Asia/Seoul:20251218T160000
SEQUENCE:0
END:VEVENT
END:VCALENDAR
