BEGIN:VCALENDAR
VERSION:2.0
PRODID:-//Sabre//Sabre VObject 4.5.8//EN
CALSCALE:GREGORIAN
BEGIN:VEVENT
UID:sabre-vobject-0fd12a81-1a6c-4b6f-8397-f33974a5222a
DTSTAMP:20260423T133845Z
SUMMARY:Jisan Ski Trip
DESCRIPTION:Book NOW with Outdoor Recreation!\n
X-ALT-DESC:FMTTYPE=text/html:<!DOCTYPE HTML PUBLIC "-//W3C//DTD HTML 3.2//E
 N"><HTML><h5>Book NOW with Outdoor Recreation!</h5>\n</HTML>
CREATED;TZID=Asia/Seoul:20260115T090559
URL;VALUE=URI:https://humphreys.armymwr.com/calendar/event
DTSTART;TZID=Asia/Seoul:20260214T080000
DTEND;TZID=Asia/Seoul:20260214T180000
SEQUENCE:0
END:VEVENT
END:VCALENDAR
