BEGIN:VCALENDAR
VERSION:2.0
PRODID:-//Sabre//Sabre VObject 4.5.8//EN
CALSCALE:GREGORIAN
BEGIN:VEVENT
UID:sabre-vobject-62a93e5e-e9cd-457f-b681-5d8c8f9b9b0b
DTSTAMP:20260421T234543Z
SUMMARY:Yongpyeong Ski Trip
DESCRIPTION:Book NOW with Outdoor Recreation!\n
X-ALT-DESC:FMTTYPE=text/html:<!DOCTYPE HTML PUBLIC "-//W3C//DTD HTML 3.2//E
 N"><HTML><h5>Book NOW with Outdoor Recreation!</h5>\n</HTML>
CREATED;TZID=Asia/Seoul:20251219T095628
URL;VALUE=URI:https://humphreys.armymwr.com/calendar/event
DTSTART;TZID=Asia/Seoul:20260117T070000
DTEND;TZID=Asia/Seoul:20260117T190000
SEQUENCE:0
END:VEVENT
END:VCALENDAR
