BEGIN:VCALENDAR
VERSION:2.0
PRODID:-//Sabre//Sabre VObject 4.5.8//EN
CALSCALE:GREGORIAN
BEGIN:VEVENT
UID:sabre-vobject-0cf58705-ebe2-447a-870a-8fe56ae38113
DTSTAMP:20260421T234542Z
SUMMARY:ODR Kids Day
DESCRIPTION:Outdoor Recreation Center\n
X-ALT-DESC:FMTTYPE=text/html:<!DOCTYPE HTML PUBLIC "-//W3C//DTD HTML 3.2//E
 N"><HTML><h5>Outdoor Recreation Center</h5>\n</HTML>
CREATED;TZID=Asia/Seoul:20251219T094523
URL;VALUE=URI:https://humphreys.armymwr.com/calendar/event
DTSTART;TZID=Asia/Seoul:20260117T140000
DTEND;TZID=Asia/Seoul:20260117T170000
SEQUENCE:0
END:VEVENT
END:VCALENDAR
