BEGIN:VCALENDAR
VERSION:2.0
PRODID:-//Sabre//Sabre VObject 4.5.8//EN
CALSCALE:GREGORIAN
BEGIN:VEVENT
UID:sabre-vobject-80207f03-f377-40bc-97b6-3cd0c08521d6
DTSTAMP:20260422T013829Z
SUMMARY:Sancheoneo Mountain Trout Festival
DESCRIPTION:Book NOW with Outdoor Recreation!\n
X-ALT-DESC:FMTTYPE=text/html:<!DOCTYPE HTML PUBLIC "-//W3C//DTD HTML 3.2//E
 N"><HTML><h5>Book NOW with Outdoor Recreation!</h5>\n</HTML>
CREATED;TZID=Asia/Seoul:20251219T093952
URL;VALUE=URI:https://humphreys.armymwr.com/calendar/event
DTSTART;TZID=Asia/Seoul:20260118T070000
DTEND;TZID=Asia/Seoul:20260118T190000
SEQUENCE:0
END:VEVENT
END:VCALENDAR
