BEGIN:VCALENDAR
VERSION:2.0
PRODID:-//Sabre//Sabre VObject 4.5.8//EN
CALSCALE:GREGORIAN
BEGIN:VEVENT
UID:sabre-vobject-bb78503c-b8d8-4fd0-b9d8-416d459707d6
DTSTAMP:20260423T150525Z
SUMMARY:Finding Our Frequency: Neurodiverse Couples Workshop
DESCRIPTION:ACS Exceptional Family Member Program\n
X-ALT-DESC:FMTTYPE=text/html:<!DOCTYPE HTML PUBLIC "-//W3C//DTD HTML 3.2//E
 N"><HTML><h5>ACS Exceptional Family Member Program</h5>\n</HTML>
CREATED;TZID=Asia/Seoul:20251113T141429
URL;VALUE=URI:https://humphreys.armymwr.com/calendar/event
DTSTART;TZID=Asia/Seoul:20260212T130000
DTEND;TZID=Asia/Seoul:20260212T160000
SEQUENCE:0
END:VEVENT
BEGIN:VEVENT
UID:sabre-vobject-23c88575-90d4-4239-a74e-88d223ce4698
DTSTAMP:20260423T150525Z
SUMMARY:Finding Our Frequency: Neurodiverse Couples Workshop
DESCRIPTION:ACS Exceptional Family Member Program\n
X-ALT-DESC:FMTTYPE=text/html:<!DOCTYPE HTML PUBLIC "-//W3C//DTD HTML 3.2//E
 N"><HTML><h5>ACS Exceptional Family Member Program</h5>\n</HTML>
CREATED;TZID=Asia/Seoul:20251113T141429
URL;VALUE=URI:https://humphreys.armymwr.com/calendar/event
DTSTART;TZID=Asia/Seoul:20260305T130000
DTEND;TZID=Asia/Seoul:20260305T160000
SEQUENCE:1
END:VEVENT
END:VCALENDAR
