BEGIN:VCALENDAR
VERSION:2.0
PRODID:-//Sabre//Sabre VObject 4.5.8//EN
CALSCALE:GREGORIAN
BEGIN:VEVENT
UID:sabre-vobject-51f463ac-15e5-4109-9878-28e740220b22
DTSTAMP:20260422T013829Z
SUMMARY:Special Storytime with Author Kristhal Reyes
DESCRIPTION:K-16 Library\n
X-ALT-DESC:FMTTYPE=text/html:<!DOCTYPE HTML PUBLIC "-//W3C//DTD HTML 3.2//E
 N"><HTML><h5>K-16 Library</h5>\n</HTML>
CREATED;TZID=Asia/Seoul:20251204T131909
URL;VALUE=URI:https://humphreys.armymwr.com/calendar/event
DTSTART;TZID=Asia/Seoul:20260114T103000
DTEND;TZID=Asia/Seoul:20260114T113000
SEQUENCE:0
END:VEVENT
END:VCALENDAR
