BEGIN:VCALENDAR
VERSION:2.0
PRODID:-//Sabre//Sabre VObject 4.5.8//EN
CALSCALE:GREGORIAN
BEGIN:VEVENT
UID:sabre-vobject-3e38f064-6936-4f8d-b0e8-643a8d2492d3
DTSTAMP:20260423T133844Z
SUMMARY:Hangul Nori Stunning Seollal
DESCRIPTION:Duke Memorial Library\n
X-ALT-DESC:FMTTYPE=text/html:<!DOCTYPE HTML PUBLIC "-//W3C//DTD HTML 3.2//E
 N"><HTML><h5>Duke Memorial Library</h5>\n</HTML>
CREATED;TZID=Asia/Seoul:20260109T140309
URL;VALUE=URI:https://humphreys.armymwr.com/calendar/event
DTSTART;TZID=Asia/Seoul:20260210T143000
DTEND;TZID=Asia/Seoul:20260210T153000
SEQUENCE:0
END:VEVENT
END:VCALENDAR
