BEGIN:VCALENDAR
VERSION:2.0
PRODID:-//Sabre//Sabre VObject 4.5.8//EN
CALSCALE:GREGORIAN
BEGIN:VEVENT
UID:sabre-vobject-73bb3968-b679-42ec-bd08-f54439fff51f
DTSTAMP:20260423T184317Z
SUMMARY:BOSS Oak Valley Ski Trip
DESCRIPTION:Explore more with BOSS!\n
X-ALT-DESC:FMTTYPE=text/html:<!DOCTYPE HTML PUBLIC "-//W3C//DTD HTML 3.2//E
 N"><HTML><h5>Explore more with BOSS!</h5>\n</HTML>
CREATED;TZID=Asia/Seoul:20251216T091616
URL;VALUE=URI:https://humphreys.armymwr.com/calendar/event
DTSTART;TZID=Asia/Seoul:20260124T060000
DTEND;TZID=Asia/Seoul:20260124T200000
SEQUENCE:0
END:VEVENT
END:VCALENDAR
