BEGIN:VCALENDAR
VERSION:2.0
PRODID:-//Sabre//Sabre VObject 4.5.8//EN
CALSCALE:GREGORIAN
BEGIN:VEVENT
UID:sabre-vobject-dd63cbd1-23d4-4305-b913-e504250ad685
DTSTAMP:20260423T094242Z
SUMMARY:K16 Karaoke Contest
DESCRIPTION:K-16 Landing Zone Cafe &amp\; Bar\n
X-ALT-DESC:FMTTYPE=text/html:<!DOCTYPE HTML PUBLIC "-//W3C//DTD HTML 3.2//E
 N"><HTML><h5>K-16 Landing Zone Cafe &amp\; Bar</h5>\n</HTML>
CREATED;TZID=Asia/Seoul:20260126T093255
URL;VALUE=URI:https://humphreys.armymwr.com/calendar/event
DTSTART;TZID=Asia/Seoul:20260220T180000
DTEND;TZID=Asia/Seoul:20260220T210000
SEQUENCE:0
END:VEVENT
END:VCALENDAR
