BEGIN:VCALENDAR
VERSION:2.0
PRODID:-//Sabre//Sabre VObject 4.5.8//EN
CALSCALE:GREGORIAN
BEGIN:VEVENT
UID:sabre-vobject-167c3231-840f-44c2-bd12-650f37793865
DTSTAMP:20260423T062604Z
SUMMARY:WZ Super Bowl Watch Party
DESCRIPTION:Warrior Zone\n
X-ALT-DESC:FMTTYPE=text/html:<!DOCTYPE HTML PUBLIC "-//W3C//DTD HTML 3.2//E
 N"><HTML><h5>Warrior Zone</h5>\n</HTML>
CREATED;TZID=Asia/Seoul:20260109T081638
URL;VALUE=URI:https://humphreys.armymwr.com/calendar/event
DTSTART;TZID=Asia/Seoul:20260209T063000
DTEND;TZID=Asia/Seoul:20260209T073000
SEQUENCE:0
END:VEVENT
END:VCALENDAR
