BEGIN:VCALENDAR
VERSION:2.0
PRODID:-//Sabre//Sabre VObject 4.5.8//EN
CALSCALE:GREGORIAN
BEGIN:VEVENT
UID:sabre-vobject-0916cc99-0059-408f-9212-b13d366186d9
DTSTAMP:20260423T094241Z
SUMMARY:Infinity Game Board Tournament
DESCRIPTION:K-16 Community Activity Center\n
X-ALT-DESC:FMTTYPE=text/html:<!DOCTYPE HTML PUBLIC "-//W3C//DTD HTML 3.2//E
 N"><HTML><h5>K-16 Community Activity Center</h5>\n</HTML>
CREATED;TZID=Asia/Seoul:20260212T124153
URL;VALUE=URI:https://humphreys.armymwr.com/calendar/event
DTSTART;TZID=Asia/Seoul:20260321T130000
DTEND;TZID=Asia/Seoul:20260321T150000
SEQUENCE:0
END:VEVENT
END:VCALENDAR
