BEGIN:VCALENDAR
VERSION:2.0
PRODID:-//Sabre//Sabre VObject 4.5.8//EN
CALSCALE:GREGORIAN
BEGIN:VEVENT
UID:sabre-vobject-55445260-980c-44bf-8f5f-ef2e03fbfad4
DTSTAMP:20260423T121532Z
SUMMARY:Family Bingo
DESCRIPTION:Downtown Recreation Center\n
X-ALT-DESC:FMTTYPE=text/html:<!DOCTYPE HTML PUBLIC "-//W3C//DTD HTML 3.2//E
 N"><HTML><h5>Downtown Recreation Center</h5>\n</HTML>
CREATED;TZID=Asia/Seoul:20260212T125428
URL;VALUE=URI:https://humphreys.armymwr.com/calendar/event
DTSTART;TZID=Asia/Seoul:20260321T150000
DTEND;TZID=Asia/Seoul:20260321T160000
SEQUENCE:0
END:VEVENT
END:VCALENDAR
