BEGIN:VCALENDAR
VERSION:2.0
PRODID:-//Sabre//Sabre VObject 4.5.8//EN
CALSCALE:GREGORIAN
BEGIN:VEVENT
UID:sabre-vobject-68f7fb44-2b57-4ed8-a828-678adce97d3e
DTSTAMP:20260423T133846Z
SUMMARY:Story Time Sweet Spring
DESCRIPTION:Duke Memorial Library\n
X-ALT-DESC:FMTTYPE=text/html:<!DOCTYPE HTML PUBLIC "-//W3C//DTD HTML 3.2//E
 N"><HTML><h5>Duke Memorial Library</h5>\n</HTML>
CREATED;TZID=Asia/Seoul:20260219T080817
URL;VALUE=URI:https://humphreys.armymwr.com/calendar/event
DTSTART;TZID=Asia/Seoul:20260324T103000
DTEND;TZID=Asia/Seoul:20260324T113000
SEQUENCE:0
END:VEVENT
END:VCALENDAR
