BEGIN:VCALENDAR
VERSION:2.0
PRODID:-//Sabre//Sabre VObject 4.5.8//EN
CALSCALE:GREGORIAN
BEGIN:VEVENT
UID:sabre-vobject-e9da4e44-6666-49d9-91a9-bdf8a9834cdd
DTSTAMP:20260426T025158Z
SUMMARY:Story Time Lucky Day
DESCRIPTION:Duke Memorial Library\n
X-ALT-DESC:FMTTYPE=text/html:<!DOCTYPE HTML PUBLIC "-//W3C//DTD HTML 3.2//E
 N"><HTML><h5>Duke Memorial Library</h5>\n</HTML>
CREATED;TZID=Asia/Seoul:20260220T092230
URL;VALUE=URI:https://humphreys.armymwr.com/calendar/event
DTSTART;TZID=Asia/Seoul:20260310T103000
DTEND;TZID=Asia/Seoul:20260310T113000
SEQUENCE:0
END:VEVENT
END:VCALENDAR
