BEGIN:VCALENDAR
VERSION:2.0
PRODID:-//Sabre//Sabre VObject 4.5.8//EN
CALSCALE:GREGORIAN
BEGIN:VEVENT
UID:sabre-vobject-023aec9b-a4e7-454c-9285-16168d46824a
DTSTAMP:20260426T025201Z
SUMMARY:K16 BOSS Right Arm Night
DESCRIPTION:K-16 Landing Zone\n
X-ALT-DESC:FMTTYPE=text/html:<!DOCTYPE HTML PUBLIC "-//W3C//DTD HTML 3.2//E
 N"><HTML><h5>K-16 Landing Zone</h5>\n</HTML>
CREATED;TZID=Asia/Seoul:20260224T105633
URL;VALUE=URI:https://humphreys.armymwr.com/calendar/event
DTSTART;TZID=Asia/Seoul:20260227T170000
DTEND;TZID=Asia/Seoul:20260227T190000
SEQUENCE:0
END:VEVENT
END:VCALENDAR
