BEGIN:VCALENDAR
VERSION:2.0
PRODID:-//Sabre//Sabre VObject 4.5.8//EN
CALSCALE:GREGORIAN
BEGIN:VEVENT
UID:sabre-vobject-64b0596f-09ca-49b5-a13e-ca2baed18bf0
DTSTAMP:20260419T174811Z
SUMMARY:Deep Sea Fishing BOSS Trip
DESCRIPTION:Explore Korea with BOSS!\n
X-ALT-DESC:FMTTYPE=text/html:<!DOCTYPE HTML PUBLIC "-//W3C//DTD HTML 3.2//E
 N"><HTML><h5>Explore Korea with BOSS!</h5>\n</HTML>
CREATED;TZID=Asia/Seoul:20260416T075626
URL;VALUE=URI:https://humphreys.armymwr.com/calendar/event
DTSTART;TZID=Asia/Seoul:20260522T040000
DTEND;TZID=Asia/Seoul:20260522T170000
SEQUENCE:0
END:VEVENT
END:VCALENDAR
