BEGIN:VCALENDAR
VERSION:2.0
PRODID:-//Sabre//Sabre VObject 4.5.8//EN
CALSCALE:GREGORIAN
BEGIN:VEVENT
UID:sabre-vobject-7921c7e8-0daf-434c-a68c-49ca568e243f
DTSTAMP:20260421T111025Z
SUMMARY:ODR Hiking Club Mt. Chilgap 
DESCRIPTION:Outdoor Recreation\n
X-ALT-DESC:FMTTYPE=text/html:<!DOCTYPE HTML PUBLIC "-//W3C//DTD HTML 3.2//E
 N"><HTML><h5>Outdoor Recreation</h5>\n</HTML>
CREATED;TZID=Asia/Seoul:20260417T145815
URL;VALUE=URI:https://humphreys.armymwr.com/calendar/event
DTSTART;TZID=Asia/Seoul:20260502T080000
DTEND;TZID=Asia/Seoul:20260502T170000
SEQUENCE:0
END:VEVENT
END:VCALENDAR
