BEGIN:VCALENDAR
VERSION:2.0
PRODID:-//Sabre//Sabre VObject 4.5.8//EN
CALSCALE:GREGORIAN
BEGIN:VEVENT
UID:sabre-vobject-c6842d20-00e1-40df-ba70-81132e4f7350
DTSTAMP:20260424T190016Z
SUMMARY:Summer Reading Program Kick-off Party
DESCRIPTION:Duke Memorial Library\n
X-ALT-DESC:FMTTYPE=text/html:<!DOCTYPE HTML PUBLIC "-//W3C//DTD HTML 3.2//E
 N"><HTML><h5>Duke Memorial Library</h5>\n</HTML>
CREATED;TZID=Asia/Seoul:20260420T121713
URL;VALUE=URI:https://humphreys.armymwr.com/calendar/event
DTSTART;TZID=Asia/Seoul:20260610T103000
DTEND;TZID=Asia/Seoul:20260610T113000
SEQUENCE:0
END:VEVENT
END:VCALENDAR
