BEGIN:VCALENDAR
VERSION:2.0
PRODID:-//Sabre//Sabre VObject 4.5.8//EN
CALSCALE:GREGORIAN
BEGIN:VEVENT
UID:sabre-vobject-c2fe0e65-e4e7-4dfe-8b6b-fc6dd0fab3bd
DTSTAMP:20260425T005504Z
SUMMARY:Summer Reading Program Blooming Garden Festival
DESCRIPTION:Duke Memorial Library\n
X-ALT-DESC:FMTTYPE=text/html:<!DOCTYPE HTML PUBLIC "-//W3C//DTD HTML 3.2//E
 N"><HTML><h5>Duke Memorial Library</h5>\n</HTML>
CREATED;TZID=Asia/Seoul:20260423T081919
URL;VALUE=URI:https://humphreys.armymwr.com/calendar/event
DTSTART;TZID=Asia/Seoul:20260708T103000
DTEND;TZID=Asia/Seoul:20260708T113000
SEQUENCE:0
END:VEVENT
END:VCALENDAR
