BEGIN:VCALENDAR
VERSION:2.0
PRODID:-//Sabre//Sabre VObject 4.5.8//EN
CALSCALE:GREGORIAN
BEGIN:VEVENT
UID:sabre-vobject-55e23e11-7232-4732-b0da-8fe7ff82c233
DTSTAMP:20260420T092503Z
SUMMARY:Lotus Lantern Making
DESCRIPTION:Outdoor Recreation Center\n
X-ALT-DESC:FMTTYPE=text/html:<!DOCTYPE HTML PUBLIC "-//W3C//DTD HTML 3.2//E
 N"><HTML><h5>Outdoor Recreation Center</h5>\n</HTML>
CREATED;TZID=Asia/Seoul:20260420T144156
URL;VALUE=URI:https://humphreys.armymwr.com/calendar/event
DTSTART;TZID=Asia/Seoul:20260423T130000
DTEND;TZID=Asia/Seoul:20260423T160000
SEQUENCE:0
END:VEVENT
END:VCALENDAR
