BEGIN:VCALENDAR
VERSION:2.0
PRODID:-//Sabre//Sabre VObject 4.5.8//EN
CALSCALE:GREGORIAN
BEGIN:VEVENT
UID:sabre-vobject-ade8d89c-8f30-436d-82f7-08c1c9c63a41
DTSTAMP:20260420T165248Z
SUMMARY:K-16 Summer Reading Kick-off Story Time
DESCRIPTION:K-16 Seoul Air Base Library\n
X-ALT-DESC:FMTTYPE=text/html:<!DOCTYPE HTML PUBLIC "-//W3C//DTD HTML 3.2//E
 N"><HTML><h5>K-16 Seoul Air Base Library</h5>\n</HTML>
CREATED;TZID=Asia/Seoul:20260420T152142
URL;VALUE=URI:https://humphreys.armymwr.com/calendar/event
DTSTART;TZID=Asia/Seoul:20260617T103000
DTEND;TZID=Asia/Seoul:20260617T113000
SEQUENCE:0
END:VEVENT
END:VCALENDAR
