BEGIN:VCALENDAR
VERSION:2.0
PRODID:-//Sabre//Sabre VObject 4.5.8//EN
CALSCALE:GREGORIAN
BEGIN:VEVENT
UID:sabre-vobject-5c21bee6-ca3c-496e-abbf-238f6c090870
DTSTAMP:20260420T165247Z
SUMMARY:K-16 Summer Reading Farm Animal Adoption Day
DESCRIPTION:K-16 Seoul Air Base Library\n
X-ALT-DESC:FMTTYPE=text/html:<!DOCTYPE HTML PUBLIC "-//W3C//DTD HTML 3.2//E
 N"><HTML><h5>K-16 Seoul Air Base Library</h5>\n</HTML>
CREATED;TZID=Asia/Seoul:20260420T164816
URL;VALUE=URI:https://humphreys.armymwr.com/calendar/event
DTSTART;TZID=Asia/Seoul:20260708T103000
DTEND;TZID=Asia/Seoul:20260708T113000
SEQUENCE:0
END:VEVENT
END:VCALENDAR
