BEGIN:VCALENDAR
VERSION:2.0
PRODID:-//Sabre//Sabre VObject 4.5.8//EN
CALSCALE:GREGORIAN
BEGIN:VEVENT
UID:sabre-vobject-ed663770-8b57-4010-92b4-8ed8ee6f6eab
DTSTAMP:20260420T165249Z
SUMMARY:K-16 Summer Reading Puppet Show
DESCRIPTION:K-16 Seoul Air Base Library\n
X-ALT-DESC:FMTTYPE=text/html:<!DOCTYPE HTML PUBLIC "-//W3C//DTD HTML 3.2//E
 N"><HTML><h5>K-16 Seoul Air Base Library</h5>\n</HTML>
CREATED;TZID=Asia/Seoul:20260420T152741
URL;VALUE=URI:https://humphreys.armymwr.com/calendar/event
DTSTART;TZID=Asia/Seoul:20260722T103000
DTEND;TZID=Asia/Seoul:20260722T113000
SEQUENCE:0
END:VEVENT
END:VCALENDAR
