BEGIN:VCALENDAR
VERSION:2.0
PRODID:-//Sabre//Sabre VObject 4.5.8//EN
CALSCALE:GREGORIAN
BEGIN:VEVENT
UID:sabre-vobject-feed5a4d-2e45-484e-95d3-d10b62b7b73a
DTSTAMP:20260420T165248Z
SUMMARY:K-16 Summer Reading Magic Show
DESCRIPTION:K-16 Seoul Air Base Library\n
X-ALT-DESC:FMTTYPE=text/html:<!DOCTYPE HTML PUBLIC "-//W3C//DTD HTML 3.2//E
 N"><HTML><h5>K-16 Seoul Air Base Library</h5>\n</HTML>
CREATED;TZID=Asia/Seoul:20260420T165017
URL;VALUE=URI:https://humphreys.armymwr.com/calendar/event
DTSTART;TZID=Asia/Seoul:20260804T103000
DTEND;TZID=Asia/Seoul:20260804T113000
SEQUENCE:0
END:VEVENT
END:VCALENDAR
