BEGIN:VCALENDAR
VERSION:2.0
PRODID:-//Sabre//Sabre VObject 4.5.8//EN
CALSCALE:GREGORIAN
BEGIN:VEVENT
UID:sabre-vobject-3364c57b-81fc-46f6-9ddb-2b10871dbe24
DTSTAMP:20260424T155741Z
SUMMARY:USAG Humphreys Company Level Summer Basketball League Coaches Meeti
 ng
DESCRIPTION:Collier Fitness Center\n
X-ALT-DESC:FMTTYPE=text/html:<!DOCTYPE HTML PUBLIC "-//W3C//DTD HTML 3.2//E
 N"><HTML><h5>Collier Fitness Center</h5>\n</HTML>
CREATED;TZID=Asia/Seoul:20260421T140110
URL;VALUE=URI:https://humphreys.armymwr.com/calendar/event
DTSTART;TZID=Asia/Seoul:20260528T120000
DTEND;TZID=Asia/Seoul:20260528T130000
SEQUENCE:0
END:VEVENT
END:VCALENDAR
