BEGIN:VCALENDAR
VERSION:2.0
PRODID:-//Sabre//Sabre VObject 4.5.8//EN
CALSCALE:GREGORIAN
BEGIN:VEVENT
UID:sabre-vobject-964f2100-f524-4038-aa9f-c284fc8746f4
DTSTAMP:20260422T081014Z
SUMMARY:Parent's Night Out
DESCRIPTION:All children receiving care are required to be registered with 
 Child &amp\; Youth Services and record must be current.\n
X-ALT-DESC:FMTTYPE=text/html:<!DOCTYPE HTML PUBLIC "-//W3C//DTD HTML 3.2//E
 N"><HTML><p>All children receiving care are required to be registered with
  Child &amp\; Youth Services and record must be current.</p>\n</HTML>
CREATED;TZID=Asia/Seoul:20190108T114403
URL;VALUE=URI:https://humphreys.armymwr.com/calendar/event
DTSTART;TZID=Asia/Seoul:20190510T183000
DTEND;TZID=Asia/Seoul:20190510T223000
SEQUENCE:0
END:VEVENT
END:VCALENDAR
