BEGIN:VCALENDAR
VERSION:2.0
PRODID:-//Sabre//Sabre VObject 4.5.8//EN
CALSCALE:GREGORIAN
BEGIN:VEVENT
UID:sabre-vobject-162596c1-92c2-47c8-bcd2-ccc366a37e7b
DTSTAMP:20260420T064805Z
SUMMARY:Parent's Night Out
DESCRIPTION:All children receiving care are required to be registered with 
 Child &amp\; Youth Services and record must be current.\n
X-ALT-DESC:FMTTYPE=text/html:<!DOCTYPE HTML PUBLIC "-//W3C//DTD HTML 3.2//E
 N"><HTML><p>All children receiving care are required to be registered with
  Child &amp\; Youth Services and record must be current.</p>\n</HTML>
CREATED;TZID=Asia/Seoul:20190710T084935
URL;VALUE=URI:https://humphreys.armymwr.com/calendar/event
DTSTART;TZID=Asia/Seoul:20190809T183000
DTEND;TZID=Asia/Seoul:20190809T223000
SEQUENCE:0
END:VEVENT
END:VCALENDAR
