BEGIN:VCALENDAR
VERSION:2.0
PRODID:-//Sabre//Sabre VObject 4.5.8//EN
CALSCALE:GREGORIAN
BEGIN:VEVENT
UID:sabre-vobject-2a3b1763-0305-46e7-b7b1-932aeeee5aa1
DTSTAMP:20260425T150413Z
SUMMARY:Read Across America!
DESCRIPTION:An annual motivational and reading awareness program that celeb
 rates across the nation the birthday of beloved author Dr. Seuss.\n
X-ALT-DESC:FMTTYPE=text/html:<!DOCTYPE HTML PUBLIC "-//W3C//DTD HTML 3.2//E
 N"><HTML><p>An annual motivational and reading awareness program that cele
 brates across the nation the birthday of beloved author Dr. Seuss.</p>\n</
 HTML>
CREATED;TZID=Asia/Seoul:20190228T180317
URL;VALUE=URI:https://humphreys.armymwr.com/calendar/event
DTSTART;TZID=Asia/Seoul:20190302T100000
DTEND;TZID=Asia/Seoul:20190302T130000
SEQUENCE:0
END:VEVENT
END:VCALENDAR
