BEGIN:VCALENDAR
VERSION:2.0
PRODID:-//Sabre//Sabre VObject 4.5.8//EN
CALSCALE:GREGORIAN
BEGIN:VEVENT
UID:sabre-vobject-ea2ae157-fbfe-4026-8966-0f7128969016
DTSTAMP:20260425T170522Z
SUMMARY:Character Breakfast
DESCRIPTION:
X-ALT-DESC:FMTTYPE=text/html:<!DOCTYPE HTML PUBLIC "-//W3C//DTD HTML 3.2//E
 N"><HTML></HTML>
CREATED;TZID=Asia/Seoul:20190322T172656
URL;VALUE=URI:https://humphreys.armymwr.com/calendar/event
DTSTART;TZID=Asia/Seoul:20190323T143000
DTEND;TZID=Asia/Seoul:20190323T153000
SEQUENCE:0
END:VEVENT
END:VCALENDAR
