BEGIN:VCALENDAR
VERSION:2.0
PRODID:-//Sabre//Sabre VObject 4.5.8//EN
CALSCALE:GREGORIAN
BEGIN:VEVENT
UID:sabre-vobject-10e7c7a0-db8f-410b-b620-67b51a6e3144
DTSTAMP:20260425T184556Z
SUMMARY:Sitman Physical Fitness Center Performance Area Ribbon Cutting Cere
 mony
DESCRIPTION:Join us for the ribbon cutting of our new performance area!\n
X-ALT-DESC:FMTTYPE=text/html:<!DOCTYPE HTML PUBLIC "-//W3C//DTD HTML 3.2//E
 N"><HTML><p>Join us for the ribbon cutting of our new performance area!</p
 >\n</HTML>
CREATED;TZID=Asia/Seoul:20190301T094943
URL;VALUE=URI:https://humphreys.armymwr.com/calendar/event
DTSTART;TZID=Asia/Seoul:20190304T070000
DTEND;TZID=Asia/Seoul:20190304T080000
SEQUENCE:0
END:VEVENT
END:VCALENDAR
