BEGIN:VCALENDAR
VERSION:2.0
PRODID:-//Sabre//Sabre VObject 4.5.8//EN
CALSCALE:GREGORIAN
BEGIN:VEVENT
UID:sabre-vobject-088fa653-6317-4770-aae4-4e4b6a90db9d
DTSTAMP:20260425T022854Z
SUMMARY:Book Club - Something in the Water
DESCRIPTION:Join us to discuss this month&#39\;s book\, &quot\;Something in
  the Water&quot\; by Catherine Steadman\n
X-ALT-DESC:FMTTYPE=text/html:<!DOCTYPE HTML PUBLIC "-//W3C//DTD HTML 3.2//E
 N"><HTML><p>Join us to discuss this month&#39\;s book\, &quot\;Something i
 n the Water&quot\; by Catherine Steadman</p>\n</HTML>
CREATED;TZID=Asia/Seoul:20190303T192514
URL;VALUE=URI:https://humphreys.armymwr.com/calendar/event
DTSTART;TZID=Asia/Seoul:20190304T173000
DTEND;TZID=Asia/Seoul:20190304T183000
SEQUENCE:0
END:VEVENT
END:VCALENDAR
