BEGIN:VCALENDAR
VERSION:2.0
PRODID:-//Sabre//Sabre VObject 4.5.8//EN
CALSCALE:GREGORIAN
BEGIN:VEVENT
UID:sabre-vobject-b398ee9e-02cb-415b-b0c3-fe0fd4e71a81
DTSTAMP:20260424T025921Z
SUMMARY:Luck of the Irish Scavenger Hunt
DESCRIPTION:
X-ALT-DESC:FMTTYPE=text/html:<!DOCTYPE HTML PUBLIC "-//W3C//DTD HTML 3.2//E
 N"><HTML></HTML>
CREATED;TZID=Asia/Seoul:20190304T154550
URL;VALUE=URI:https://humphreys.armymwr.com/calendar/event
DTSTART;TZID=Asia/Seoul:20190316T150000
DTEND;TZID=Asia/Seoul:20190316T160000
SEQUENCE:0
END:VEVENT
END:VCALENDAR
