BEGIN:VCALENDAR
VERSION:2.0
PRODID:-//Sabre//Sabre VObject 4.5.8//EN
CALSCALE:GREGORIAN
BEGIN:VEVENT
UID:sabre-vobject-d79da807-a39d-49a0-8abf-244190656289
DTSTAMP:20260423T015456Z
SUMMARY:Telestrations Night
DESCRIPTION:Join in for a crazy night of silly communication!\n
X-ALT-DESC:FMTTYPE=text/html:<!DOCTYPE HTML PUBLIC "-//W3C//DTD HTML 3.2//E
 N"><HTML><p><span new="" roman="" style="font-size:12.0pt\;font-family:" t
 imes="">Join in for a crazy night of silly communication!</span></p>\n</HT
 ML>
CREATED;TZID=Asia/Seoul:20190403T170146
URL;VALUE=URI:https://humphreys.armymwr.com/calendar/event
DTSTART;TZID=Asia/Seoul:20190423T180000
DTEND;TZID=Asia/Seoul:20190423T190000
SEQUENCE:0
END:VEVENT
END:VCALENDAR
