BEGIN:VCALENDAR
VERSION:2.0
PRODID:-//Sabre//Sabre VObject 4.5.8//EN
CALSCALE:GREGORIAN
BEGIN:VEVENT
UID:sabre-vobject-97da9bc6-336f-4a0a-8fb3-7b6b4fcaa7bb
DTSTAMP:20260423T074346Z
SUMMARY:Super Smash Bros. Tournament
DESCRIPTION:Do you have what it takes to be the Super Smash Bros. Champion?
 \n
X-ALT-DESC:FMTTYPE=text/html:<!DOCTYPE HTML PUBLIC "-//W3C//DTD HTML 3.2//E
 N"><HTML><p>Do you have what it takes to be the Super Smash Bros. Champion
 ?</p>\n</HTML>
CREATED;TZID=Asia/Seoul:20190403T170216
URL;VALUE=URI:https://humphreys.armymwr.com/calendar/event
DTSTART;TZID=Asia/Seoul:20190420T150000
DTEND;TZID=Asia/Seoul:20190420T160000
SEQUENCE:0
END:VEVENT
END:VCALENDAR
