BEGIN:VCALENDAR
VERSION:2.0
PRODID:-//Sabre//Sabre VObject 4.5.8//EN
CALSCALE:GREGORIAN
BEGIN:VEVENT
UID:sabre-vobject-c5012f1d-c4a9-4030-a0c1-f057333a81f6
DTSTAMP:20260423T060954Z
SUMMARY:Community Baby Shower Expo
DESCRIPTION:Are you a new or expecting parent?\n
X-ALT-DESC:FMTTYPE=text/html:<!DOCTYPE HTML PUBLIC "-//W3C//DTD HTML 3.2//E
 N"><HTML><p>Are you a new or expecting parent?</p>\n</HTML>
CREATED;TZID=Asia/Seoul:20190415T172953
URL;VALUE=URI:https://humphreys.armymwr.com/calendar/event
DTSTART;TZID=Asia/Seoul:20190417T173000
DTEND;TZID=Asia/Seoul:20190417T193000
SEQUENCE:0
END:VEVENT
END:VCALENDAR
