BEGIN:VCALENDAR
VERSION:2.0
PRODID:-//Sabre//Sabre VObject 4.5.8//EN
CALSCALE:GREGORIAN
BEGIN:VEVENT
UID:sabre-vobject-ea087311-e1be-492d-b8b3-32bf34ce4256
DTSTAMP:20260423T184308Z
SUMMARY:Sidewalk Chalk Art
DESCRIPTION:Show off your Sidewalk Chalk drawing skills!\n
X-ALT-DESC:FMTTYPE=text/html:<!DOCTYPE HTML PUBLIC "-//W3C//DTD HTML 3.2//E
 N"><HTML><p>Show off your Sidewalk Chalk drawing skills!</p>\n</HTML>
CREATED;TZID=Asia/Seoul:20190402T165219
URL;VALUE=URI:https://humphreys.armymwr.com/calendar/event
DTSTART;TZID=Asia/Seoul:20190406T150000
DTEND;TZID=Asia/Seoul:20190406T160000
SEQUENCE:0
END:VEVENT
END:VCALENDAR
