BEGIN:VCALENDAR
VERSION:2.0
PRODID:-//Sabre//Sabre VObject 4.5.8//EN
CALSCALE:GREGORIAN
BEGIN:VEVENT
UID:sabre-vobject-4f3c9e55-44b0-4a81-919b-67d58b3b838c
DTSTAMP:20260423T015455Z
SUMMARY:Easter Brunch
DESCRIPTION:Reservations are highly encouraged for this popular event since
  seating is limited!\n
X-ALT-DESC:FMTTYPE=text/html:<!DOCTYPE HTML PUBLIC "-//W3C//DTD HTML 3.2//E
 N"><HTML><p><em><strong>Reservations are highly encouraged </strong></em>f
 or this popular event since seating is limited!</p>\n</HTML>
CREATED;TZID=Asia/Seoul:20190419T091524
URL;VALUE=URI:https://humphreys.armymwr.com/calendar/event
DTSTART;TZID=Asia/Seoul:20190421T110000
DTEND;TZID=Asia/Seoul:20190421T150000
SEQUENCE:0
END:VEVENT
END:VCALENDAR
