BEGIN:VCALENDAR
VERSION:2.0
PRODID:-//Sabre//Sabre VObject 4.5.8//EN
CALSCALE:GREGORIAN
BEGIN:VEVENT
UID:sabre-vobject-980d80d0-7b3f-4f3b-b696-c9caa063c4e1
DTSTAMP:20260422T112836Z
SUMMARY:Cinco de Mayo Buffet at the Flightline Tap Room
DESCRIPTION:Celebrate Cinco de Mayo at the Flightline Tap Room!\n
X-ALT-DESC:FMTTYPE=text/html:<!DOCTYPE HTML PUBLIC "-//W3C//DTD HTML 3.2//E
 N"><HTML><p>Celebrate Cinco de Mayo at the Flightline Tap Room!</p>\n</HTM
 L>
CREATED;TZID=Asia/Seoul:20190430T150145
URL;VALUE=URI:https://humphreys.armymwr.com/calendar/event
DTSTART;TZID=Asia/Seoul:20190504T190000
DTEND;TZID=Asia/Seoul:20190504T220000
SEQUENCE:0
END:VEVENT
END:VCALENDAR
