BEGIN:VCALENDAR
VERSION:2.0
PRODID:-//Sabre//Sabre VObject 4.5.8//EN
CALSCALE:GREGORIAN
BEGIN:VEVENT
UID:sabre-vobject-f8d35cbf-a259-44f1-b3c3-25f99f7b1216
DTSTAMP:20260422T081009Z
SUMMARY:Mother's Day Brunch
DESCRIPTION:Join us in celebrating mothers with this delicious brunch!\n
X-ALT-DESC:FMTTYPE=text/html:<!DOCTYPE HTML PUBLIC "-//W3C//DTD HTML 3.2//E
 N"><HTML><p>Join us in celebrating mothers with this delicious brunch!</p>
 \n</HTML>
CREATED;TZID=Asia/Seoul:20190411T094457
URL;VALUE=URI:https://humphreys.armymwr.com/calendar/event
DTSTART;TZID=Asia/Seoul:20190512T110000
DTEND;TZID=Asia/Seoul:20190512T150000
SEQUENCE:0
END:VEVENT
END:VCALENDAR
