BEGIN:VCALENDAR
VERSION:2.0
PRODID:-//Sabre//Sabre VObject 4.5.8//EN
CALSCALE:GREGORIAN
BEGIN:VEVENT
UID:sabre-vobject-aaa981b9-3aa9-4f79-a1cf-af07dff45b40
DTSTAMP:20260422T112836Z
SUMMARY:Mother's Day Eve Dinner
DESCRIPTION:Celebrate Mom the night before Mother&#39\;s Day!\n
X-ALT-DESC:FMTTYPE=text/html:<!DOCTYPE HTML PUBLIC "-//W3C//DTD HTML 3.2//E
 N"><HTML><p>Celebrate Mom the night before Mother&#39\;s Day!</p>\n</HTML>
CREATED;TZID=Asia/Seoul:20190509T090056
URL;VALUE=URI:https://humphreys.armymwr.com/calendar/event
DTSTART;TZID=Asia/Seoul:20190511T170000
DTEND;TZID=Asia/Seoul:20190511T210000
SEQUENCE:0
END:VEVENT
END:VCALENDAR
