BEGIN:VCALENDAR
VERSION:2.0
PRODID:-//Sabre//Sabre VObject 4.5.8//EN
CALSCALE:GREGORIAN
BEGIN:VEVENT
UID:sabre-vobject-d9283497-d540-4397-bd90-f2a0d169b541
DTSTAMP:20260422T081012Z
SUMMARY:Aqua Jogger
DESCRIPTION:This is a STRONG B.A.N.D.S. event!\n
X-ALT-DESC:FMTTYPE=text/html:<!DOCTYPE HTML PUBLIC "-//W3C//DTD HTML 3.2//E
 N"><HTML><p>This is a STRONG B.A.N.D.S. event!</p>\n</HTML>
CREATED;TZID=Asia/Seoul:20190501T173044
URL;VALUE=URI:https://humphreys.armymwr.com/calendar/event
DTSTART;TZID=Asia/Seoul:20190514T063000
DTEND;TZID=Asia/Seoul:20190514T073000
SEQUENCE:0
END:VEVENT
END:VCALENDAR
