BEGIN:VCALENDAR
VERSION:2.0
PRODID:-//Sabre//Sabre VObject 4.5.8//EN
CALSCALE:GREGORIAN
BEGIN:VEVENT
UID:sabre-vobject-fc10476d-3f5f-4fdf-915b-d91309d0c3e7
DTSTAMP:20260422T081018Z
SUMMARY:Preschool Story Hour
DESCRIPTION:Kids preschool age and under can enjoy music\, activities\, gam
 es\, stories and crafts!\n
X-ALT-DESC:FMTTYPE=text/html:<!DOCTYPE HTML PUBLIC "-//W3C//DTD HTML 3.2//E
 N"><HTML><p>Kids preschool age and under can enjoy music\, activities\, ga
 mes\, stories and crafts!</p>\n</HTML>
CREATED;TZID=Asia/Seoul:20190430T200548
URL;VALUE=URI:https://humphreys.armymwr.com/calendar/event
DTSTART;TZID=Asia/Seoul:20190516T100000
DTEND;TZID=Asia/Seoul:20190516T130000
SEQUENCE:0
END:VEVENT
END:VCALENDAR
